BEGIN:VCALENDAR
VERSION:2.0
PRODID:-//Abeille Du Salève - ECPv6.15.13//NONSGML v1.0//EN
CALSCALE:GREGORIAN
METHOD:PUBLISH
X-WR-CALNAME:Abeille Du Salève
X-ORIGINAL-URL:https://www.abeille-du-saleve.org
X-WR-CALDESC:Évènements pour Abeille Du Salève
REFRESH-INTERVAL;VALUE=DURATION:PT1H
X-Robots-Tag:noindex
X-PUBLISHED-TTL:PT1H
BEGIN:VTIMEZONE
TZID:UTC
BEGIN:STANDARD
TZOFFSETFROM:+0000
TZOFFSETTO:+0000
TZNAME:UTC
DTSTART:20230101T000000
END:STANDARD
END:VTIMEZONE
BEGIN:VEVENT
DTSTART;TZID=UTC:20241128T200000
DTEND;TZID=UTC:20241128T213000
DTSTAMP:20260422T022221
CREATED:20241119T194442Z
LAST-MODIFIED:20241121T173738Z
UID:15162-1732824000-1732829400@www.abeille-du-saleve.org
SUMMARY:Conférence sur les pollinisateurs
DESCRIPTION:Visioconférence dispensée par Madame Charlène HEINIGER (Filière Gestion de la nature\, Écologie Végétale Appliquée – Haute École du paysage\, d’ingénierie et d’architecture de Genève). \nLors de cette entrevue\, il sera question des pollinisateurs.
URL:https://www.abeille-du-saleve.org/event/intervention-de-la-dr-charlene-heiniger-sur-les-plantes-melliferes/
LOCATION:Visioconférence via Zoom
CATEGORIES:Cours Théoriques 2026
END:VEVENT
END:VCALENDAR