BEGIN:VCALENDAR
VERSION:2.0
PRODID:-//Abeille Du Salève - ECPv6.15.13//NONSGML v1.0//EN
CALSCALE:GREGORIAN
METHOD:PUBLISH
X-ORIGINAL-URL:https://www.abeille-du-saleve.org
X-WR-CALDESC:Évènements pour Abeille Du Salève
REFRESH-INTERVAL;VALUE=DURATION:PT1H
X-Robots-Tag:noindex
X-PUBLISHED-TTL:PT1H
BEGIN:VTIMEZONE
TZID:UTC
BEGIN:STANDARD
TZOFFSETFROM:+0000
TZOFFSETTO:+0000
TZNAME:UTC
DTSTART:20240101T000000
END:STANDARD
END:VTIMEZONE
BEGIN:VEVENT
DTSTART;TZID=UTC:20250111T083000
DTEND;TZID=UTC:20250111T120000
DTSTAMP:20260421T234132
CREATED:20241031T153527Z
LAST-MODIFIED:20241031T161707Z
UID:36-1736584200-1736596800@www.abeille-du-saleve.org
SUMMARY:Atelier fonte de cire
DESCRIPTION:Atelier de Fonte de Cire : Créez Vos Propres Feuilles de Cire Gaufrée ! \nNous sommes ravis de vous inviter à notre prochain atelier de fonte de cire\, une occasion unique pour découvrir et expérimenter un savoir-faire essentiel de l’apiculture : la fabrication de feuilles de cire gaufrée. \nCet atelier est ouvert à tous les membres de l’association\, qu’ils soient novices ou apiculteurs expérimentés\, curieux de mieux comprendre ce processus et d’apprendre à créer eux-mêmes leurs feuilles de cire. L’atelier permettra de transformer la cire brute\, que chaque participant peut apporter\, en feuilles de cire gaufrée prêtes à l’emploi dans les ruches. C’est une belle opportunité pour explorer la fabrication artisanale\, mais aussi pour bénéficier de la qualité et de la pureté d’une cire personnelle. \nAu programme de l’atelier : \n\nPrésentation des outils et du processus : Nous commencerons par une présentation des équipements utilisés dans la fabrication artisanale de cire gaufrée\, ainsi qu’une explication du processus de fonte et de gaufrage.\nÉtapes de transformation : Guidés par un animateur apiculteur\, vous apprendrez comment faire fondre votre cire\, la purifier\, et la transformer en feuilles parfaitement gaufrées grâce à une presse spécialement conçue.\nConseils et astuces pratiques : En fonction de la cire que vous apportez\, vous recevrez des conseils personnalisés pour obtenir des feuilles de la meilleure qualité possible.\n\nPourquoi participer ? \nEn plus de la satisfaction de faire vous-même vos feuilles de cire\, cet atelier est un excellent moyen de mieux comprendre l’apiculture durable et d’expérimenter une activité qui enrichit le lien entre apiculteur et ruche. Utiliser des feuilles de cire que vous avez façonnées vous-même apporte un avantage unique pour les abeilles\, en plus de garantir la pureté et l’origine de votre cire. \nQue vous soyez passionné par les abeilles\, intéressé par les méthodes artisanales\, ou simplement curieux de voir comment se déroule cette transformation\, cet atelier est pour vous ! \nRejoignez-nous et plongez dans cette expérience enrichissante et créative !
URL:https://www.abeille-du-saleve.org/event/atelier-fonte-de-cire/
LOCATION:Chez Louis Rosset\, 637 route de Bellecombe\, reignier-esery\, 74930\, France
CATEGORIES:Cours Pratiques 2026
END:VEVENT
BEGIN:VEVENT
DTSTART;TZID=UTC:20250116T203000
DTEND;TZID=UTC:20250116T223000
DTSTAMP:20260421T234132
CREATED:20241104T115219Z
LAST-MODIFIED:20241104T120100Z
UID:49-1737059400-1737066600@www.abeille-du-saleve.org
SUMMARY:Assemblée Générale 2024
DESCRIPTION:AG 2024
URL:https://www.abeille-du-saleve.org/event/atelier-fonte-de-cire-2/
LOCATION:Mairie de Reignier – Salle des mariages\, 197 grande rue\, reignier-esery\, 74930\, France
CATEGORIES:Assemblé Générale
END:VEVENT
BEGIN:VEVENT
DTSTART;TZID=UTC:20250130T200000
DTEND;TZID=UTC:20250130T223000
DTSTAMP:20260421T234132
CREATED:20250130T150452Z
LAST-MODIFIED:20250130T150452Z
UID:15513-1738267200-1738276200@www.abeille-du-saleve.org
SUMMARY:Cours Théorique N°1
DESCRIPTION:Premier Cours Théorique – “Connaître l’Abeille” \nL’association L’Abeille du Salève vous invite à son premier cours théorique dédié à la découverte de l’abeille. Nous explorerons son anatomie\, son cycle de vie\, son organisation sociale et son rôle essentiel dans l’écosystème. Comprendre l’abeille\, c’est mieux appréhender l’apiculture et les bonnes pratiques pour l’accompagner. Ce premier module pose les bases indispensables pour toute personne souhaitant s’initier ou approfondir ses connaissances en apiculture.
URL:https://www.abeille-du-saleve.org/event/cours-theorique-n1/
LOCATION:Visioconférence via Zoom
END:VEVENT
END:VCALENDAR