BEGIN:VCALENDAR
VERSION:2.0
PRODID:-//Abeille Du Salève - ECPv6.15.13//NONSGML v1.0//EN
CALSCALE:GREGORIAN
METHOD:PUBLISH
X-ORIGINAL-URL:https://www.abeille-du-saleve.org
X-WR-CALDESC:Évènements pour Abeille Du Salève
REFRESH-INTERVAL;VALUE=DURATION:PT1H
X-Robots-Tag:noindex
X-PUBLISHED-TTL:PT1H
BEGIN:VTIMEZONE
TZID:UTC
BEGIN:STANDARD
TZOFFSETFROM:+0000
TZOFFSETTO:+0000
TZNAME:UTC
DTSTART:20240101T000000
END:STANDARD
END:VTIMEZONE
BEGIN:VEVENT
DTSTART;TZID=UTC:20250212T193000
DTEND;TZID=UTC:20250212T223000
DTSTAMP:20260421T221010
CREATED:20250202T103004Z
LAST-MODIFIED:20250204T173105Z
UID:15657-1739388600-1739399400@www.abeille-du-saleve.org
SUMMARY:Rencontre Apicole #1 : Le Frelon Asiatique
DESCRIPTION:L’Abeille du Salève vous convie à sa première rencontre apicole de 2025\, dédiée à la lutte contre le frelon asiatique. Pour cet événement\, nous aurons le plaisir d’accueillir M. Lavorel\, référent départemental du Groupement de Défense Sanitaire\, qui partagera son expertise sur l’identification\, la surveillance et les stratégies de lutte contre ce redoutable prédateur des abeilles. Une rencontre essentielle pour mieux protéger nos ruchers et échanger sur les solutions existantes.
URL:https://www.abeille-du-saleve.org/event/rencontre-apicole-1/
LOCATION:Mairie de Reignier – Salle des mariages\, 197 grande rue\, reignier-esery\, 74930\, France
END:VEVENT
BEGIN:VEVENT
DTSTART;TZID=UTC:20250215T083000
DTEND;TZID=UTC:20250215T120000
DTSTAMP:20260421T221010
CREATED:20250202T102122Z
LAST-MODIFIED:20250202T102122Z
UID:15653-1739608200-1739620800@www.abeille-du-saleve.org
SUMMARY:Permanence de l'Abeille du Salève
DESCRIPTION:L’Abeille du Salève organise une permanence pour la récupération du matériel commandé. Profitez de ce moment pour venir retirer vos équipements et échanger avec d’autres membres sur leur utilisation. Une occasion idéale pour poser vos questions\, partager vos expériences et préparer au mieux votre saison apicole dans une ambiance conviviale !
URL:https://www.abeille-du-saleve.org/event/permanence-de-labeille-du-saleve/
LOCATION:Chez Louis Rosset\, 637 route de Bellecombe\, reignier-esery\, 74930\, France
END:VEVENT
BEGIN:VEVENT
DTSTART;TZID=UTC:20250215T090000
DTEND;TZID=UTC:20250215T120000
DTSTAMP:20260421T221010
CREATED:20250202T101432Z
LAST-MODIFIED:20250202T101724Z
UID:15648-1739610000-1739620800@www.abeille-du-saleve.org
SUMMARY:Atelier gaufrage de cadres
DESCRIPTION:L’Abeille du Salève vous invite à un atelier dédié au gaufrage de cadres. Venez apprendre à insérer et fixer la cire gaufrée sur vos cadres\, une étape essentielle pour offrir un support optimal aux abeilles dans la ruche. Nous verrons les techniques de mise en place\, les bonnes pratiques et l’importance d’une cire de qualité. Un moment convivial pour échanger et perfectionner votre savoir-faire apicole !
URL:https://www.abeille-du-saleve.org/event/atelier-fonte-de-cire-3/
LOCATION:Chez Louis Rosset\, 637 route de Bellecombe\, reignier-esery\, 74930\, France
END:VEVENT
BEGIN:VEVENT
DTSTART;TZID=UTC:20250227T200000
DTEND;TZID=UTC:20250227T223000
DTSTAMP:20260421T221010
CREATED:20250202T102514Z
LAST-MODIFIED:20250202T102514Z
UID:15655-1740686400-1740695400@www.abeille-du-saleve.org
SUMMARY:Cours Théorique #2
DESCRIPTION:L’Abeille du Salève vous invite à son deuxième cours théorique d’apiculture\, animé en visioconférence par Pierre Tomas-Bouil\, président du Syndapi 74. Une occasion unique d’approfondir vos connaissances avec un expert passionné et d’échanger sur les bonnes pratiques apicoles. Un moment d’apprentissage enrichissant\, accessible à tous\, pour mieux comprendre et accompagner nos abeilles au fil des saisons !
URL:https://www.abeille-du-saleve.org/event/cours-theorique-2/
LOCATION:Visioconférence via Zoom
END:VEVENT
END:VCALENDAR