BEGIN:VCALENDAR
VERSION:2.0
PRODID:-//Abeille Du Salève - ECPv6.15.13//NONSGML v1.0//EN
CALSCALE:GREGORIAN
METHOD:PUBLISH
X-WR-CALNAME:Abeille Du Salève
X-ORIGINAL-URL:https://www.abeille-du-saleve.org
X-WR-CALDESC:Évènements pour Abeille Du Salève
REFRESH-INTERVAL;VALUE=DURATION:PT1H
X-Robots-Tag:noindex
X-PUBLISHED-TTL:PT1H
BEGIN:VTIMEZONE
TZID:UTC
BEGIN:STANDARD
TZOFFSETFROM:+0000
TZOFFSETTO:+0000
TZNAME:UTC
DTSTART:20240101T000000
END:STANDARD
END:VTIMEZONE
BEGIN:VEVENT
DTSTART;TZID=UTC:20250503T020000
DTEND;TZID=UTC:20250503T160000
DTSTAMP:20260421T183216
CREATED:20250404T095321Z
LAST-MODIFIED:20250404T095321Z
UID:15923-1746237600-1746288000@www.abeille-du-saleve.org
SUMMARY:Cours pratique n°6
DESCRIPTION:
URL:https://www.abeille-du-saleve.org/event/cours-pratique-n6/
LOCATION:Rucher école\, Moussy
END:VEVENT
BEGIN:VEVENT
DTSTART;TZID=UTC:20250510T140000
DTEND;TZID=UTC:20250510T163000
DTSTAMP:20260421T183216
CREATED:20250404T095447Z
LAST-MODIFIED:20250404T095447Z
UID:15925-1746885600-1746894600@www.abeille-du-saleve.org
SUMMARY:Cours pratique n°7
DESCRIPTION:
URL:https://www.abeille-du-saleve.org/event/cours-pratique-n7/
LOCATION:Rucher école\, Moussy
END:VEVENT
BEGIN:VEVENT
DTSTART;TZID=UTC:20250515T173000
DTEND;TZID=UTC:20250515T193000
DTSTAMP:20260421T183216
CREATED:20250404T095604Z
LAST-MODIFIED:20250404T095604Z
UID:15927-1747330200-1747337400@www.abeille-du-saleve.org
SUMMARY:Permanence
DESCRIPTION:
URL:https://www.abeille-du-saleve.org/event/permanence/
LOCATION:Chez Louis Rosset\, 637 route de Bellecombe\, reignier-esery\, 74930\, France
END:VEVENT
BEGIN:VEVENT
DTSTART;TZID=UTC:20250515T200000
DTEND;TZID=UTC:20250515T213000
DTSTAMP:20260421T183216
CREATED:20250512T132947Z
LAST-MODIFIED:20250512T132947Z
UID:16010-1747339200-1747344600@www.abeille-du-saleve.org
SUMMARY:Cours théorique - élevage de reine 2025
DESCRIPTION:Rendez-vous à 20h via le lien de téléconférence envoyé aux participants inscrits sur le framadate (le cas échéant merci de contacter le président)
URL:https://www.abeille-du-saleve.org/event/cours-theorique-elevage-de-reine-2025/
LOCATION:Visioconférence via Zoom
END:VEVENT
BEGIN:VEVENT
DTSTART;TZID=UTC:20250517T090000
DTEND;TZID=UTC:20250517T170000
DTSTAMP:20260421T183216
CREATED:20250512T133841Z
LAST-MODIFIED:20250512T133841Z
UID:16019-1747472400-1747501200@www.abeille-du-saleve.org
SUMMARY:Journée portes ouvertes Parc et Jardin Annemasse
DESCRIPTION:Venez nous aider à tenir le stand et présenter le rucher école et l’activité apicole locale ! \nInscription pour participer à la tenue du stand en compagnie de Jean-Charles via le framadate \nEnvie d’un moment sympa pendant l’événement ? Passez nous voir sur notre stand ! (parking gratuit)
URL:https://www.abeille-du-saleve.org/event/journee-portes-ouvertes-parc-et-jardin-annemasse/
LOCATION:centre horticole d’Annemasse                   36 rue du Brouaz. 74 100 Annemasse\, centre horticole d’Annemasse 36 rue du Brouaz.\, Annemasse\, 74 100\, France
END:VEVENT
BEGIN:VEVENT
DTSTART;TZID=UTC:20250517T130000
DTEND;TZID=UTC:20250517T140000
DTSTAMP:20260421T183216
CREATED:20250512T133247Z
LAST-MODIFIED:20250512T133247Z
UID:16015-1747486800-1747490400@www.abeille-du-saleve.org
SUMMARY:Cours pratique - élevage de reine 2025
DESCRIPTION:Mise en pratique de l’élevage de reine\, informations sur le lieu/heure exacte communiquées par email aux participants inscrits sur le framadate (le cas échéant merci de contacter le président).
URL:https://www.abeille-du-saleve.org/event/cours-pratique-elevage-de-reine-2025/
LOCATION:Rucher école\, Moussy
END:VEVENT
BEGIN:VEVENT
DTSTART;TZID=UTC:20250517T140000
DTEND;TZID=UTC:20250517T163000
DTSTAMP:20260421T183216
CREATED:20250404T095701Z
LAST-MODIFIED:20250404T095701Z
UID:15929-1747490400-1747499400@www.abeille-du-saleve.org
SUMMARY:Cours pratique n°8
DESCRIPTION:
URL:https://www.abeille-du-saleve.org/event/cours-pratique-n8/
LOCATION:Rucher école\, Moussy
END:VEVENT
BEGIN:VEVENT
DTSTART;TZID=UTC:20250522T203000
DTEND;TZID=UTC:20250522T220000
DTSTAMP:20260421T183216
CREATED:20250404T112933Z
LAST-MODIFIED:20250404T112933Z
UID:15933-1747945800-1747951200@www.abeille-du-saleve.org
SUMMARY:Cours théorique n°5
DESCRIPTION:Cours sur les maladies des abeilles\, donné par la Dr. Vét. Anaïs Ferry
URL:https://www.abeille-du-saleve.org/event/cours-theorique-n5/
LOCATION:Visioconférence
END:VEVENT
BEGIN:VEVENT
DTSTART;TZID=UTC:20250524T140000
DTEND;TZID=UTC:20250524T183000
DTSTAMP:20260421T183216
CREATED:20250404T113045Z
LAST-MODIFIED:20250404T113045Z
UID:15935-1748095200-1748111400@www.abeille-du-saleve.org
SUMMARY:Cours pratique n°9
DESCRIPTION:
URL:https://www.abeille-du-saleve.org/event/cours-pratique-n9/
LOCATION:Rucher école\, Moussy
END:VEVENT
BEGIN:VEVENT
DTSTART;TZID=UTC:20250531T140000
DTEND;TZID=UTC:20250531T163000
DTSTAMP:20260421T183216
CREATED:20250404T113153Z
LAST-MODIFIED:20250404T113153Z
UID:15937-1748700000-1748709000@www.abeille-du-saleve.org
SUMMARY:Cours pratique n°10
DESCRIPTION:
URL:https://www.abeille-du-saleve.org/event/cours-pratique-n10/
LOCATION:Rucher école\, Moussy
END:VEVENT
END:VCALENDAR