BEGIN:VCALENDAR
VERSION:2.0
PRODID:-//Abeille Du Salève - ECPv6.15.13//NONSGML v1.0//EN
CALSCALE:GREGORIAN
METHOD:PUBLISH
X-WR-CALNAME:Abeille Du Salève
X-ORIGINAL-URL:https://www.abeille-du-saleve.org
X-WR-CALDESC:Évènements pour Abeille Du Salève
REFRESH-INTERVAL;VALUE=DURATION:PT1H
X-Robots-Tag:noindex
X-PUBLISHED-TTL:PT1H
BEGIN:VTIMEZONE
TZID:UTC
BEGIN:STANDARD
TZOFFSETFROM:+0000
TZOFFSETTO:+0000
TZNAME:UTC
DTSTART:20240101T000000
END:STANDARD
END:VTIMEZONE
BEGIN:VEVENT
DTSTART;VALUE=DATE:20251004
DTEND;VALUE=DATE:20251005
DTSTAMP:20260421T114931
CREATED:20251002T084935Z
LAST-MODIFIED:20251002T085343Z
UID:16374-1759536000-1759622399@www.abeille-du-saleve.org
SUMMARY:Foire d'automne à Reignier
DESCRIPTION:Stand de l’association sur la foire d’automne à Reignier.
URL:https://www.abeille-du-saleve.org/event/foire-dautomne-a-reignier/
LOCATION:parc de l’ancien hôpital\, Reignier
END:VEVENT
BEGIN:VEVENT
DTSTART;TZID=UTC:20251030T200000
DTEND;TZID=UTC:20251030T220000
DTSTAMP:20260421T114931
CREATED:20251002T085537Z
LAST-MODIFIED:20251002T085537Z
UID:16380-1761854400-1761861600@www.abeille-du-saleve.org
SUMMARY:Analyse sensorielle du miel
DESCRIPTION:
URL:https://www.abeille-du-saleve.org/event/analyse-sensorielle-du-miel/
LOCATION:Mairie de Reignier – Salle des mariages\, 197 grande rue\, reignier-esery\, 74930\, France
END:VEVENT
END:VCALENDAR