BEGIN:VCALENDAR
VERSION:2.0
PRODID:-//Abeille Du Salève - ECPv6.15.13//NONSGML v1.0//EN
CALSCALE:GREGORIAN
METHOD:PUBLISH
X-WR-CALNAME:Abeille Du Salève
X-ORIGINAL-URL:https://www.abeille-du-saleve.org
X-WR-CALDESC:Évènements pour Abeille Du Salève
REFRESH-INTERVAL;VALUE=DURATION:PT1H
X-Robots-Tag:noindex
X-PUBLISHED-TTL:PT1H
BEGIN:VTIMEZONE
TZID:UTC
BEGIN:STANDARD
TZOFFSETFROM:+0000
TZOFFSETTO:+0000
TZNAME:UTC
DTSTART:20250101T000000
END:STANDARD
END:VTIMEZONE
BEGIN:VEVENT
DTSTART;TZID=UTC:20260117T083000
DTEND;TZID=UTC:20260117T120000
DTSTAMP:20260421T080253
CREATED:20260103T181257Z
LAST-MODIFIED:20260103T181733Z
UID:16612-1768638600-1768651200@www.abeille-du-saleve.org
SUMMARY:Fonte des vieux cadres
DESCRIPTION:Session réservée aux cadres de “L’Abeille du Salève”
URL:https://www.abeille-du-saleve.org/event/fonte-des-vieux-cadres-2/
LOCATION:Chez Louis Rosset\, 637 route de Bellecombe\, reignier-esery\, 74930\, France
END:VEVENT
BEGIN:VEVENT
DTSTART;TZID=UTC:20260123T193000
DTEND;TZID=UTC:20260123T193000
DTSTAMP:20260421T080253
CREATED:20260103T181426Z
LAST-MODIFIED:20260103T181426Z
UID:16613-1769196600-1769196600@www.abeille-du-saleve.org
SUMMARY:Repas annuel
DESCRIPTION:Sur réservation après du Secrétaire Alain LACRAZ
URL:https://www.abeille-du-saleve.org/event/repas-annuel/
LOCATION:Restaurant la Tour D’ivoire\, 769 rue de la gare\, Reignier-Esery\, 74390\, France
END:VEVENT
BEGIN:VEVENT
DTSTART;TZID=UTC:20260129T201500
DTEND;TZID=UTC:20260129T223000
DTSTAMP:20260421T080253
CREATED:20260103T181525Z
LAST-MODIFIED:20260103T181525Z
UID:16614-1769717700-1769725800@www.abeille-du-saleve.org
SUMMARY:Cours théorique 1
DESCRIPTION:Appel à 20h15 – Début du cours à 20h30
URL:https://www.abeille-du-saleve.org/event/cours-theorique-1/
LOCATION:Visioconférence via Zoom
END:VEVENT
END:VCALENDAR