BEGIN:VCALENDAR
VERSION:2.0
PRODID:-//Abeille Du Salève - ECPv6.15.13//NONSGML v1.0//EN
CALSCALE:GREGORIAN
METHOD:PUBLISH
X-WR-CALNAME:Abeille Du Salève
X-ORIGINAL-URL:https://www.abeille-du-saleve.org
X-WR-CALDESC:Évènements pour Abeille Du Salève
REFRESH-INTERVAL;VALUE=DURATION:PT1H
X-Robots-Tag:noindex
X-PUBLISHED-TTL:PT1H
BEGIN:VTIMEZONE
TZID:UTC
BEGIN:STANDARD
TZOFFSETFROM:+0000
TZOFFSETTO:+0000
TZNAME:UTC
DTSTART:20250101T000000
END:STANDARD
END:VTIMEZONE
BEGIN:VEVENT
DTSTART;TZID=UTC:20260326T201500
DTEND;TZID=UTC:20260326T223000
DTSTAMP:20260419T123427
CREATED:20260103T181950Z
LAST-MODIFIED:20260103T181950Z
UID:16620-1774556100-1774564200@www.abeille-du-saleve.org
SUMMARY:Cours théorique 3
DESCRIPTION:
URL:https://www.abeille-du-saleve.org/event/cours-theorique-3/
LOCATION:Visioconférence via Zoom
END:VEVENT
BEGIN:VEVENT
DTSTART;TZID=UTC:20260328T083000
DTEND;TZID=UTC:20260328T120000
DTSTAMP:20260419T123427
CREATED:20260103T182300Z
LAST-MODIFIED:20260103T182300Z
UID:16621-1774686600-1774699200@www.abeille-du-saleve.org
SUMMARY:APITROC
DESCRIPTION:Foire au matériel apicole d’occasion
URL:https://www.abeille-du-saleve.org/event/apitroc-2/
LOCATION:Allée de l’ancienne maison de retraite\, Reignier
END:VEVENT
BEGIN:VEVENT
DTSTART;TZID=UTC:20260328T120000
DTEND;TZID=UTC:20260328T133000
DTSTAMP:20260419T123427
CREATED:20260103T182411Z
LAST-MODIFIED:20260103T182411Z
UID:16622-1774699200-1774704600@www.abeille-du-saleve.org
SUMMARY:Collation pour les élèves promotion 2026
DESCRIPTION:Apporter assiette – Couverts – Verres personnels
URL:https://www.abeille-du-saleve.org/event/collation-pour-les-eleves-promotion-2026/
LOCATION:Chez Louis Rosset\, 637 route de Bellecombe\, reignier-esery\, 74930\, France
END:VEVENT
BEGIN:VEVENT
DTSTART;TZID=UTC:20260328T140000
DTEND;TZID=UTC:20260328T160000
DTSTAMP:20260419T123427
CREATED:20260103T182513Z
LAST-MODIFIED:20260103T182513Z
UID:16623-1774706400-1774713600@www.abeille-du-saleve.org
SUMMARY:Cours pratique 1
DESCRIPTION:Tenue de protection rigoureusement obligatoire\, Accueil Moussy – Consignes générales (parking\, sécurité\,…) – Ouverture premières ruches
URL:https://www.abeille-du-saleve.org/event/cours-pratique-1/
LOCATION:Rucher école\, Moussy
END:VEVENT
END:VCALENDAR